BEGIN:VCALENDAR
VERSION:2.0
PRODID:-//Plone.org//NONSGML plone.app.event//EN
X-WR-TIMEZONE:US/Pacific
BEGIN:VEVENT
SUMMARY:Closed - Happy Thanksgiving
DTSTART;VALUE=DATE:20231123
DTEND;VALUE=DATE:20231125
DTSTAMP;VALUE=DATE-TIME:20260420T031326Z
UID:4b87668e1270437592cbfb8ad6999a76
RRULE:FREQ=YEARLY;COUNT=7;BYDAY=+4TH;BYMONTH=11
CREATED;VALUE=DATE-TIME:20230626T191015Z
LAST-MODIFIED;VALUE=DATE-TIME:20230626T192411Z
URL:https://arlington.ploud.net/news-events/closed-happy-thanksgiving
END:VEVENT
END:VCALENDAR
