BEGIN:VCALENDAR
VERSION:2.0
PRODID:-//Plone.org//NONSGML plone.app.event//EN
X-WR-TIMEZONE:US/Pacific
BEGIN:VEVENT
SUMMARY:Closed - Martin Luther King JR Birthday
DTSTART;VALUE=DATE:20240115
DTEND;VALUE=DATE:20240116
DTSTAMP;VALUE=DATE-TIME:20260420T014456Z
UID:3f86fa6e699b42798f0a81c697ca5cff
CREATED;VALUE=DATE-TIME:20230626T192816Z
LAST-MODIFIED;VALUE=DATE-TIME:20230626T192823Z
URL:https://arlington.ploud.net/news-events/closed-martin-luther-king-jr-b
 irthday
END:VEVENT
END:VCALENDAR
