BEGIN:VCALENDAR
VERSION:2.0
PRODID:-//Plone.org//NONSGML plone.app.event//EN
X-WR-TIMEZONE:US/Pacific
BEGIN:VEVENT
SUMMARY:Closed - Memorial Day
DTSTART;VALUE=DATE:20240527
DTEND;VALUE=DATE:20240528
DTSTAMP;VALUE=DATE-TIME:20260420T031217Z
UID:f44c5dbac2d144ae8f4432ef5765dc73
RRULE:FREQ=YEARLY;COUNT=7;BYDAY=+4MO;BYMONTH=5
CREATED;VALUE=DATE-TIME:20230626T193144Z
LAST-MODIFIED;VALUE=DATE-TIME:20230626T193223Z
URL:https://arlington.ploud.net/news-events/closed-memorial-day
END:VEVENT
END:VCALENDAR
