BEGIN:VCALENDAR
VERSION:2.0
PRODID:-//Plone.org//NONSGML plone.app.event//EN
X-WR-TIMEZONE:US/Pacific
BEGIN:VEVENT
SUMMARY:Closed - Merry Christmas
DTSTART;VALUE=DATE:20231225
DTEND;VALUE=DATE:20231227
DTSTAMP;VALUE=DATE-TIME:20260420T031228Z
UID:6c76f2dfc7064c1d957b98446cc191d4
RRULE:FREQ=YEARLY;COUNT=7;BYMONTHDAY=25;BYMONTH=12
CREATED;VALUE=DATE-TIME:20230626T190822Z
LAST-MODIFIED;VALUE=DATE-TIME:20230626T192523Z
URL:https://arlington.ploud.net/news-events/closed-merry-christmas
END:VEVENT
END:VCALENDAR
