BEGIN:VCALENDAR
VERSION:2.0
PRODID:-//Plone.org//NONSGML plone.app.event//EN
X-WR-TIMEZONE:US/Pacific
BEGIN:VEVENT
SUMMARY:Closed - President's Day
DTSTART;VALUE=DATE:20240219
DTEND;VALUE=DATE:20240220
DTSTAMP;VALUE=DATE-TIME:20260420T031535Z
UID:db799417287d42b3bb309473c01650ce
RRULE:FREQ=YEARLY;COUNT=7;BYDAY=+3MO;BYMONTH=2
CREATED;VALUE=DATE-TIME:20230626T192956Z
LAST-MODIFIED;VALUE=DATE-TIME:20230626T193030Z
URL:https://arlington.ploud.net/news-events/closed-presidents-day
END:VEVENT
END:VCALENDAR
