BEGIN:VCALENDAR
VERSION:2.0
PRODID:-//Plone.org//NONSGML plone.app.event//EN
X-WR-TIMEZONE:US/Pacific
BEGIN:VEVENT
SUMMARY:Closed - Veterans Day
DTSTART;VALUE=DATE:20231110
DTEND;VALUE=DATE:20231111
DTSTAMP;VALUE=DATE-TIME:20260420T013732Z
UID:b7f92083044c499caca6a7fb882bf451
CREATED;VALUE=DATE-TIME:20230626T192303Z
LAST-MODIFIED;VALUE=DATE-TIME:20230626T192308Z
URL:https://arlington.ploud.net/news-events/closed-veterans-day
END:VEVENT
END:VCALENDAR
