BEGIN:VCALENDAR
VERSION:2.0
PRODID:-//Plone.org//NONSGML plone.app.event//EN
X-WR-TIMEZONE:US/Pacific
BEGIN:VEVENT
SUMMARY:Closed - Juneteenth
DTSTART;VALUE=DATE:20240619
DTEND;VALUE=DATE:20240620
DTSTAMP;VALUE=DATE-TIME:20260420T013624Z
UID:e70c423783404dcaa6a1c786947c8371
CREATED;VALUE=DATE-TIME:20240507T212555Z
LAST-MODIFIED;VALUE=DATE-TIME:20240507T212727Z
URL:https://arlington.ploud.net/news-events/lib-cal/juneteenth
END:VEVENT
END:VCALENDAR
