BEGIN:VCALENDAR
VERSION:2.0
PRODID:-//Plone.org//NONSGML plone.app.event//EN
X-WR-TIMEZONE:US/Pacific
BEGIN:VEVENT
SUMMARY:test event
DTSTART;TZID=US/Pacific;VALUE=DATE-TIME:20081124T090000
DTEND;TZID=US/Pacific;VALUE=DATE-TIME:20081124T100000
DTSTAMP;VALUE=DATE-TIME:20260420T013734Z
UID:71086227e7ee8a9a93e46d357ff10604
CREATED;VALUE=DATE-TIME:20081119T165437Z
LAST-MODIFIED;VALUE=DATE-TIME:20081119T165446Z
URL:https://arlington.ploud.net/news-events/lib-cal/test-event.ics
END:VEVENT
BEGIN:VTIMEZONE
TZID:US/Pacific
X-LIC-LOCATION:US/Pacific
BEGIN:STANDARD
DTSTART;VALUE=DATE-TIME:20081102T010000
TZNAME:PST
TZOFFSETFROM:-0700
TZOFFSETTO:-0800
END:STANDARD
END:VTIMEZONE
END:VCALENDAR
