BEGIN:VCALENDAR
VERSION:2.0
PRODID:-//Plone.org//NONSGML plone.app.event//EN
X-WR-TIMEZONE:US/Pacific
BEGIN:VEVENT
SUMMARY:Pre-Registration for Summer Reading Program
DTSTART;TZID=US/Pacific;VALUE=DATE-TIME:20230626T100000
DTEND;TZID=US/Pacific;VALUE=DATE-TIME:20230626T160000
DTSTAMP;VALUE=DATE-TIME:20260420T013733Z
UID:5e8d153611d74f0c9b2c7a1c2082a34f
CREATED;VALUE=DATE-TIME:20230626T183900Z
LAST-MODIFIED;VALUE=DATE-TIME:20230626T183907Z
URL:https://arlington.ploud.net/news-events/pre-registration-for-summer-re
 ading-program
END:VEVENT
BEGIN:VTIMEZONE
TZID:US/Pacific
X-LIC-LOCATION:US/Pacific
BEGIN:DAYLIGHT
DTSTART;VALUE=DATE-TIME:20230312T030000
TZNAME:PDT
TZOFFSETFROM:-0800
TZOFFSETTO:-0700
END:DAYLIGHT
END:VTIMEZONE
END:VCALENDAR
