BEGIN:VCALENDAR
VERSION:2.0
PRODID:-//Plone.org//NONSGML plone.app.event//EN
X-WR-TIMEZONE:US/Pacific
BEGIN:VEVENT
SUMMARY:Summer Reading Program 1st through 5th grade
DTSTART;TZID=US/Pacific;VALUE=DATE-TIME:20230726T110000
DTEND;TZID=US/Pacific;VALUE=DATE-TIME:20230726T120000
DTSTAMP;VALUE=DATE-TIME:20260420T013920Z
UID:286aacc3cb5f4da5895d0910715ed4e5
CREATED;VALUE=DATE-TIME:20230626T180951Z
LAST-MODIFIED;VALUE=DATE-TIME:20230626T182721Z
URL:https://arlington.ploud.net/news-events/summer-reading-program-1st-thr
 ough-5th-grade/2023-07-26
END:VEVENT
BEGIN:VTIMEZONE
TZID:US/Pacific
X-LIC-LOCATION:US/Pacific
BEGIN:DAYLIGHT
DTSTART;VALUE=DATE-TIME:20230312T030000
TZNAME:PDT
TZOFFSETFROM:-0800
TZOFFSETTO:-0700
END:DAYLIGHT
END:VTIMEZONE
END:VCALENDAR
