BEGIN:VCALENDAR
VERSION:2.0
PRODID:-//Plone.org//NONSGML plone.app.event//EN
X-WR-TIMEZONE:US/Pacific
BEGIN:VEVENT
SUMMARY:Summer Reading Program Kindergarten and Younger
DTSTART;TZID=US/Pacific;VALUE=DATE-TIME:20230719T093000
DTEND;TZID=US/Pacific;VALUE=DATE-TIME:20230719T103000
DTSTAMP;VALUE=DATE-TIME:20260420T014311Z
UID:9394b110ea2a4c61a1b5471affa93edf
CREATED;VALUE=DATE-TIME:20230626T180734Z
LAST-MODIFIED;VALUE=DATE-TIME:20230626T182853Z
URL:https://arlington.ploud.net/news-events/summer-reading-program-up-to-k
 indergarten/2023-07-19
END:VEVENT
BEGIN:VTIMEZONE
TZID:US/Pacific
X-LIC-LOCATION:US/Pacific
BEGIN:DAYLIGHT
DTSTART;VALUE=DATE-TIME:20230312T030000
TZNAME:PDT
TZOFFSETFROM:-0800
TZOFFSETTO:-0700
END:DAYLIGHT
END:VTIMEZONE
END:VCALENDAR
